BEGIN:VCALENDAR
VERSION:2.0
PRODID:-// - ECPv6.15.20//NONSGML v1.0//EN
CALSCALE:GREGORIAN
METHOD:PUBLISH
X-ORIGINAL-URL:https://www.apomcafe.com
X-WR-CALDESC:Events for 
REFRESH-INTERVAL;VALUE=DURATION:PT1H
X-Robots-Tag:noindex
X-PUBLISHED-TTL:PT1H
BEGIN:VTIMEZONE
TZID:UTC
BEGIN:STANDARD
TZOFFSETFROM:+0000
TZOFFSETTO:+0000
TZNAME:UTC
DTSTART:20180101T000000
END:STANDARD
END:VTIMEZONE
BEGIN:VTIMEZONE
TZID:America/New_York
BEGIN:DAYLIGHT
TZOFFSETFROM:-0500
TZOFFSETTO:-0400
TZNAME:EDT
DTSTART:20180311T070000
END:DAYLIGHT
BEGIN:STANDARD
TZOFFSETFROM:-0400
TZOFFSETTO:-0500
TZNAME:EST
DTSTART:20181104T060000
END:STANDARD
BEGIN:DAYLIGHT
TZOFFSETFROM:-0500
TZOFFSETTO:-0400
TZNAME:EDT
DTSTART:20190310T070000
END:DAYLIGHT
BEGIN:STANDARD
TZOFFSETFROM:-0400
TZOFFSETTO:-0500
TZNAME:EST
DTSTART:20191103T060000
END:STANDARD
BEGIN:DAYLIGHT
TZOFFSETFROM:-0500
TZOFFSETTO:-0400
TZNAME:EDT
DTSTART:20200308T070000
END:DAYLIGHT
BEGIN:STANDARD
TZOFFSETFROM:-0400
TZOFFSETTO:-0500
TZNAME:EST
DTSTART:20201101T060000
END:STANDARD
END:VTIMEZONE
BEGIN:VEVENT
DTSTART;TZID=UTC:20190307T170000
DTEND;TZID=UTC:20190307T190000
DTSTAMP:20260423T173740
CREATED:20190224T004057Z
LAST-MODIFIED:20190224T004057Z
UID:303-1551978000-1551985200@www.apomcafe.com
SUMMARY:Cafe
DESCRIPTION:
URL:https://www.apomcafe.com/event/cafe-4/
LOCATION:A Place of Miracles Cafe\, 9138 Quinnford Blvd\, North Chesterfield\, VIRGINIA (VA)\, 23237
ORGANIZER;CN="A Place of Miracles":MAILTO:aplaceofmiracles@gmail.com
END:VEVENT
BEGIN:VEVENT
DTSTART;TZID=UTC:20190305T170000
DTEND;TZID=UTC:20190305T190000
DTSTAMP:20260423T173740
CREATED:20190224T004012Z
LAST-MODIFIED:20190224T004012Z
UID:301-1551805200-1551812400@www.apomcafe.com
SUMMARY:CAFE
DESCRIPTION:
URL:https://www.apomcafe.com/event/cafe-3/
LOCATION:A Place of Miracles Cafe\, 9138 Quinnford Blvd\, North Chesterfield\, VIRGINIA (VA)\, 23237
ORGANIZER;CN="A Place of Miracles":MAILTO:aplaceofmiracles@gmail.com
END:VEVENT
BEGIN:VEVENT
DTSTART;TZID=UTC:20190301T170000
DTEND;TZID=UTC:20190301T190000
DTSTAMP:20260423T173740
CREATED:20190224T003723Z
LAST-MODIFIED:20190224T003723Z
UID:299-1551459600-1551466800@www.apomcafe.com
SUMMARY:CAFE /  Food Distribution
DESCRIPTION:
URL:https://www.apomcafe.com/event/cafe-food-distribution/
LOCATION:A Place of Miracles Cafe\, 9138 Quinnford Blvd\, North Chesterfield\, VIRGINIA (VA)\, 23237
ORGANIZER;CN="A Place of Miracles":MAILTO:aplaceofmiracles@gmail.com
END:VEVENT
BEGIN:VEVENT
DTSTART;TZID=UTC:20190228T170000
DTEND;TZID=UTC:20190228T190000
DTSTAMP:20260423T173740
CREATED:20190224T003536Z
LAST-MODIFIED:20190224T003536Z
UID:297-1551373200-1551380400@www.apomcafe.com
SUMMARY:Cafe
DESCRIPTION:
URL:https://www.apomcafe.com/event/cafe-2/
LOCATION:A Place of Miracles Cafe\, 9138 Quinnford Blvd\, North Chesterfield\, VIRGINIA (VA)\, 23237
ORGANIZER;CN="A Place of Miracles":MAILTO:aplaceofmiracles@gmail.com
END:VEVENT
BEGIN:VEVENT
DTSTART;TZID=UTC:20190226T170000
DTEND;TZID=UTC:20190226T190000
DTSTAMP:20260423T173740
CREATED:20190224T003347Z
LAST-MODIFIED:20190224T003347Z
UID:295-1551200400-1551207600@www.apomcafe.com
SUMMARY:Cafe
DESCRIPTION:
URL:https://www.apomcafe.com/event/cafe/
LOCATION:A Place of Miracles Cafe\, 9138 Quinnford Blvd\, North Chesterfield\, VIRGINIA (VA)\, 23237
ORGANIZER;CN="A Place of Miracles":MAILTO:aplaceofmiracles@gmail.com
END:VEVENT
BEGIN:VEVENT
DTSTART;TZID=America/New_York:20190224T170000
DTEND;TZID=America/New_York:20190224T190000
DTSTAMP:20260423T173740
CREATED:20190224T002446Z
LAST-MODIFIED:20190224T002446Z
UID:290-1551027600-1551034800@www.apomcafe.com
SUMMARY:Cafe  5-7 pm
DESCRIPTION:
URL:https://www.apomcafe.com/event/cafe-5-7-pm/
LOCATION:A Place of Miracles Cafe\, 9138 Quinnford Blvd\, North Chesterfield\, VIRGINIA (VA)\, 23237
ORGANIZER;CN="A Place of Miracles":MAILTO:aplaceofmiracles@gmail.com
END:VEVENT
END:VCALENDAR